BEGIN:VCALENDAR
VERSION:2.0
PRODID:-//Mindfulness et méditation de pleine conscience ~ MBSR ~ Paris et Fontainebleau ~ Bains de forêt - ECPv4.8.2//NONSGML v1.0//EN
CALSCALE:GREGORIAN
METHOD:PUBLISH
X-WR-CALNAME:Mindfulness et méditation de pleine conscience ~ MBSR ~ Paris et Fontainebleau ~ Bains de forêt
X-ORIGINAL-URL:https://myfullness.net
X-WR-CALDESC:Events for Mindfulness et méditation de pleine conscience ~ MBSR ~ Paris et Fontainebleau ~ Bains de forêt
BEGIN:VEVENT
DTSTART;TZID=Europe/Paris:20220113T093000
DTEND;TZID=Europe/Paris:20220113T110000
DTSTAMP:20260424T091411
CREATED:20220105T082817Z
LAST-MODIFIED:20220105T082843Z
UID:22654-1642066200-1642071600@myfullness.net
SUMMARY:Cycle MBSR\, Fontainebleau\, Réunion Information
DESCRIPTION:Cette séance\, gratuite\, est importante avant de vous engager dans le programme. \nElle vous donnera l’occasion de \n\nRencontrer l’instructeur en personne ;\nApprendre plus de choses sur MBSR et explorer si ce programme est bon pour vous ;\nFaire l’expérience de la pratique de la Pleine Conscience comme il vous sera proposé pendant le programme ;\nPoser des questions ;\nRencontrer d’autres participants et vous familiariser avec l’expérience du groupe.\n\nA l’issu de cette séance\, l’instructeur vous demandera de remplir un formulaire afin de vérifier l’adéquation entre vos motivations\, votre état de santé et l’exigence du programme. Un entretien individuel peut être proposé. \n
URL:https://myfullness.net/event/cycle-mbsr-fontainebleau-reunion-information/2022-01-13/
LOCATION:CPSF\, 30 Boulevard Marécal Foch\, Fontainebleau\, 77300\, France
CATEGORIES:Atelier,Fontainebleau,MBSR,Méditation,Stress
END:VEVENT
END:VCALENDAR